BEGIN:VCALENDAR
VERSION:2.0
PRODID:-//TIFOL - ECPv6.15.20//NONSGML v1.0//EN
CALSCALE:GREGORIAN
METHOD:PUBLISH
X-WR-CALNAME:TIFOL
X-ORIGINAL-URL:https://www.tifol.at
X-WR-CALDESC:Veranstaltungen für TIFOL
REFRESH-INTERVAL;VALUE=DURATION:PT1H
X-Robots-Tag:noindex
X-PUBLISHED-TTL:PT1H
BEGIN:VTIMEZONE
TZID:Europe/Vienna
BEGIN:DAYLIGHT
TZOFFSETFROM:+0100
TZOFFSETTO:+0200
TZNAME:CEST
DTSTART:20250330T010000
END:DAYLIGHT
BEGIN:STANDARD
TZOFFSETFROM:+0200
TZOFFSETTO:+0100
TZNAME:CET
DTSTART:20251026T010000
END:STANDARD
BEGIN:DAYLIGHT
TZOFFSETFROM:+0100
TZOFFSETTO:+0200
TZNAME:CEST
DTSTART:20260329T010000
END:DAYLIGHT
BEGIN:STANDARD
TZOFFSETFROM:+0200
TZOFFSETTO:+0100
TZNAME:CET
DTSTART:20261025T010000
END:STANDARD
BEGIN:DAYLIGHT
TZOFFSETFROM:+0100
TZOFFSETTO:+0200
TZNAME:CEST
DTSTART:20270328T010000
END:DAYLIGHT
BEGIN:STANDARD
TZOFFSETFROM:+0200
TZOFFSETTO:+0100
TZNAME:CET
DTSTART:20271031T010000
END:STANDARD
END:VTIMEZONE
BEGIN:VEVENT
DTSTART;TZID=Europe/Vienna:20260306T080000
DTEND;TZID=Europe/Vienna:20260308T170000
DTSTAMP:20260421T112812
CREATED:20251213T172653Z
LAST-MODIFIED:20251213T173535Z
UID:4190-1772784000-1772989200@www.tifol.at
SUMMARY:OLZT Trainingslager
DESCRIPTION:Teilnahme nur für Athlet*innen des TIFOL Nachwuchskader
URL:https://www.tifol.at/tolk/olzt-trainingslager/
LOCATION:Raum Innsbruck
CATEGORIES:TIFOL Training
END:VEVENT
BEGIN:VEVENT
DTSTART;TZID=Europe/Vienna:20260329T000000
DTEND;TZID=Europe/Vienna:20260329T235959
DTSTAMP:20260421T112812
CREATED:20251213T170911Z
LAST-MODIFIED:20260316T190428Z
UID:4160-1774742400-1774828799@www.tifol.at
SUMMARY:2. Tirolcup
DESCRIPTION:Anmeldung über ÖFOL ANNE
URL:https://www.tifol.at/tolk/2-tirolcup-2/
LOCATION:Raum Kufstein
CATEGORIES:Tirolcup & Tiroler Meisterschaft
END:VEVENT
END:VCALENDAR